Workbook

Sheet 参加申込書 (入力用)
A2: 第３９回福島県中学校新人女子ソフトボール大会 | Y2: ※ | AA2: の欄に必要事項を記入ください。
B3: 記入日 | G3: 令和 | J3: 8 | K3: 年 | N3: 月 | Q3: 日
A4: 所属地区名 | Q4: 地区代表順位 | AA4: 位 | AC4: 支部協会長名
A6: フリガナ | Z6: チーム 所在地 | AD6: 〒
A7: チーム名
A8: 引率責任者 | G8: ふりがな
G9: 氏名
A10: 監 督 名 | E10: 30 | G10: ふりがな
G11: 氏名 | Q11: 連絡先住所 | V11: 〒
A12: コーチ名 | E12: 31 | G12: ふりがな
G13: 氏名 | Q13: 自宅
A14: コーチ名 | E14: 32 | G14: ふりがな | Q14: 携帯
G15: 氏名 | Q15: メールアドレス
A16: ※下記の指導者資格のいずれかを有する者１名の氏名と資格名、登録番号を記載すること。（２名いる場合は２名）
A17: 公認コーチ1～4（公認ソフトボールコーチ）、スタートコーチ
A18: 指導者氏名１ | I18: 資格名 | Q18: 登録番号 | Y18: 指導者氏名２ | AG18: 資格名 | AO18: 登録番号
B23: ※UN＝ﾕﾆﾌｫｰﾑﾅﾝﾊﾞｰ | T23: 【 選 手 名 簿 】
A24: № | C24: UN | E24: 位置 | H24: フリガナ | Q24: 学校名 （校名は○○中） | W24: 学年 | Y24: № | AA24: UN | AC24: 位置 | AF24: フリガナ | AO24: 学校名 （校名は○○中） | AU24: 学年
H25: 氏 名 | AF25: 氏 名
A26: 1 | E26: 投手 | Y26: 14 | AC26: 控
A28: 2 | E28: 捕手 | Y28: 15 | AC28: 〃
A30: 3 | E30: 一塁手 | Y30: 16 | AC30: 〃
A32: 4 | E32: 二塁手 | Y32: 17 | AC32: 〃
A34: 5 | E34: 三塁手 | Y34: 18 | AC34: 〃
A36: 6 | E36: 遊撃手 | Y36: 19 | AC36: 〃
A38: 7 | E38: 左翼手 | Y38: 20 | AC38: 〃
A40: 8 | E40: 中堅手 | Y40: 21 | AC40: 〃
A42: 9 | E42: 右翼手 | Y42: 22 | AC42: 〃
A44: 10 | E44: 控 | Y44: 23 | AC44: 〃
A46: 11 | E46: 〃 | Y46: 24 | AC46: 〃
A48: 12 | E48: 〃 | Y48: 25 | AC48: 〃
A50: 13 | E50: 〃
A53: チーム紹介

Sheet 申込書中学校新人女子
B1: 福島民友新聞社 ２０２６ 第３９回福島県中学生新人女子 ソフトボール大会 | Q1: 大会申込書
W2: チーム名 | Z2: ='参加申込書 (入力用)'!I7 -> 0
D3: (支部名・種別の該当を○で囲んで下さい。) | W3: Ｕ Ｎ | Y3: 位 置 | Z3: 氏 名 | AA3: 学年 | AB3: 投 | AC3: 打 | AD3: 備 考
B4: 支 部 名 | G4: 県 北 ・ 県 南 ・ 会 津 ・ 相 双 ・ い わ き | W4: ３ ０ | Y4: 監 督 | Z4: ='参加申込書 (入力用)'!K11 -> 0 | AD4: ='参加申込書 (入力用)'!Q19 -> 0
B5: 種 別 | D5: クラブ | F5: 実業団 | H5: 教員 | I5: 大 学 | K5: 高中小 | M5: レディース | N5: エルダー | O5: エルデスト | P5: 一般男子 | Q5: 壮年 | R5: 成年二部 | S5: 実年 | T5: シニア | U5: ハイシニア | W5: ３ １ | Y5: コーチ | Z5: ='参加申込書 (入力用)'!K13 -> 0
D6: 男 子 | E6: 女 子 | F6: 男 子 | G6: 女 子 | I6: 男 子 | J6: 女 子 | K6: 男 子 | L6: 女 子 | W6: ３ ２ | Y6: コーチ | Z6: ='参加申込書 (入力用)'!K15 -> 0
Y7: ｽｺｱﾗｰ | Z7: ='参加申込書 (入力用)'!AA9 -> 0 | AD7: ='参加申込書 (入力用)'!I21 -> 0
W8: 1 | X8: ='参加申込書 (入力用)'!C26 -> 0 | Y8: 投手 | Z8: ='参加申込書 (入力用)'!H27 -> 0 | AA8: ='参加申込書 (入力用)'!W26 -> 0
W9: 2 | X9: ='参加申込書 (入力用)'!C28 -> 0 | Y9: 捕手 | Z9: ='参加申込書 (入力用)'!H29 -> 0 | AA9: ='参加申込書 (入力用)'!W28 -> 0
B10: チーム名 | F10: ='参加申込書 (入力用)'!I7 -> 0 | W10: 3 | X10: ='参加申込書 (入力用)'!C30 -> 0 | Y10: 一塁手 | Z10: ='参加申込書 (入力用)'!H31 -> 0 | AA10: ='参加申込書 (入力用)'!W30 -> 0
W11: 4 | X11: ='参加申込書 (入力用)'!C32 -> 0 | Y11: 二塁手 | Z11: ='参加申込書 (入力用)'!H33 -> 0 | AA11: ='参加申込書 (入力用)'!W32 -> 0
B12: 所在地 | F12: 〒 | G12: ='参加申込書 (入力用)'!AE6 -> 0 | W12: 5 | X12: ='参加申込書 (入力用)'!C34 -> 0 | Y12: 三塁手 | Z12: ='参加申込書 (入力用)'!H35 -> 0 | AA12: ='参加申込書 (入力用)'!W34 -> 0
F13: ='参加申込書 (入力用)'!AD7 -> 0 | W13: 6 | X13: ='参加申込書 (入力用)'!C36 -> 0 | Y13: 遊撃手 | Z13: ='参加申込書 (入力用)'!H37 -> 0 | AA13: ='参加申込書 (入力用)'!W36 -> 0
B14: 引率責任者 | W14: 7 | X14: ='参加申込書 (入力用)'!C38 -> 0 | Y14: 左翼手 | Z14: ='参加申込書 (入力用)'!H39 -> 0 | AA14: ='参加申込書 (入力用)'!W38 -> 0
F15: ='参加申込書 (入力用)'!K9 -> 0 | W15: 8 | X15: ='参加申込書 (入力用)'!C40 -> 0 | Y15: 中堅手 | Z15: ='参加申込書 (入力用)'!H41 -> 0 | AA15: ='参加申込書 (入力用)'!W40 -> 0
B16: 連絡先 | F16: 〒 | G16: ='参加申込書 (入力用)'!W11 -> 0 | W16: 9 | X16: ='参加申込書 (入力用)'!C42 -> 0 | Y16: 右翼手 | Z16: ='参加申込書 (入力用)'!H43 -> 0 | AA16: ='参加申込書 (入力用)'!W42 -> 0
F17: ='参加申込書 (入力用)'!V12 -> 0 | W17: 10 | X17: ='参加申込書 (入力用)'!C44 -> 0 | Y17: 控 | Z17: ='参加申込書 (入力用)'!H45 -> 0 | AA17: ='参加申込書 (入力用)'!W44 -> 0
B18: 連絡責任者の自宅住所・ＴＥＬ等を記入下さい。 | F18: 自宅電話 | J18: ='参加申込書 (入力用)'!Y13 -> 0 | W18: 11 | X18: ='参加申込書 (入力用)'!C46 -> 0 | Y18: 控 | Z18: ='参加申込書 (入力用)'!H47 -> 0 | AA18: ='参加申込書 (入力用)'!W46 -> 0
F19: 携帯電話 | J19: ='参加申込書 (入力用)'!Y14 -> 0 | W19: 12 | X19: ='参加申込書 (入力用)'!C48 -> 0 | Y19: 控 | Z19: ='参加申込書 (入力用)'!H49 -> 0 | AA19: ='参加申込書 (入力用)'!W48 -> 0
W20: 13 | X20: ='参加申込書 (入力用)'!C50 -> 0 | Y20: 控 | Z20: ='参加申込書 (入力用)'!H51 -> 0 | AA20: ='参加申込書 (入力用)'!W50 -> 0
F21: メールアドレス | J21: ='参加申込書 (入力用)'!Y15 -> 0 | W21: 14 | X21: ='参加申込書 (入力用)'!AA26 -> 0 | Y21: 控 | Z21: ='参加申込書 (入力用)'!AF27 -> 0 | AA21: ='参加申込書 (入力用)'!AU26 -> 0
W22: 15 | X22: ='参加申込書 (入力用)'!AA28 -> 0 | Y22: 控 | Z22: ='参加申込書 (入力用)'!AF29 -> 0 | AA22: ='参加申込書 (入力用)'!AU28 -> 0
C23: 標記大会に出場することを認め、参加を申込みます。 | W23: 16 | X23: ='参加申込書 (入力用)'!AA30 -> 0 | Y23: 控 | Z23: ='参加申込書 (入力用)'!AF31 -> 0 | AA23: ='参加申込書 (入力用)'!AU30 -> 0
W24: 17 | X24: ='参加申込書 (入力用)'!AA32 -> 0 | Y24: 控 | Z24: ='参加申込書 (入力用)'!AF33 -> 0 | AA24: ='参加申込書 (入力用)'!AU32 -> 0
N25: 令和 | P25: ='参加申込書 (入力用)'!J3 -> 8 | Q25: 年 | R25: ='参加申込書 (入力用)'!M3 -> 0 | S25: 月 | T25: ='参加申込書 (入力用)'!P3 -> 0 | U25: 日 | W25: 18 | X25: ='参加申込書 (入力用)'!AA34 -> 0 | Y25: 控 | Z25: ='参加申込書 (入力用)'!AF35 -> 0 | AA25: ='参加申込書 (入力用)'!AU34 -> 0
B26: 大 会 会 長 様 | W26: 19
W27: 20
W28: 21
E29: 引率責任者 | J29: ='参加申込書 (入力用)'!K9 -> 0 | W29: 22
W30: 23
W31: 24
E32: 支部協会長名 | J32: ='参加申込書 (入力用)'!AJ4 -> 0 | W32: 25
X33: ※略字等を使用せず記入のこと。また本欄記載の氏名どおり打順表にも記載すること。
X34: ※備考欄に指導者委認定番号、公式記録員番号（スコアラー）を記入すること。
X35: ※監督、コーチが選手を兼ねる場合、選手欄にも記入のこと。
X36: ※投打欄に右・左・両と記入して下さい。

Sheet チーム紹介様式
A1: ='参加申込書 (入力用)'!G4 -> 0 | D1: 地区 | F1: 第 | G1: ='参加申込書 (入力用)'!W4 -> 0 | H1: 代表
A2: ='参加申込書 (入力用)'!I7 -> 0
A4: チーム写真
A5: チーム名 | C5: ='参加申込書 (入力用)'!I6 -> 0 | F5: 引率者名 | H5: ='参加申込書 (入力用)'!K8 -> 0
C6: =申込書中学校新人女子!Z2 -> 0 | H6: ='参加申込書 (入力用)'!K9 -> 0
A7: 監督名 | B7: 30 | C7: ='参加申込書 (入力用)'!K10 -> 0 | F7: コーチ名 | G7: 31 | H7: ='参加申込書 (入力用)'!K12 -> 0
C8: ='参加申込書 (入力用)'!K11 -> 0 | H8: ='参加申込書 (入力用)'!K13 -> 0
A9: コーチ名 | B9: 31 | C9: ='参加申込書 (入力用)'!K14 -> 0
C10: ='参加申込書 (入力用)'!K15 -> 0
A11: チーム紹介 | C11: ='参加申込書 (入力用)'!G53 -> 0
A12: 位置 | B12: UN. | C12: 氏名 | D12: 学年 | E12: 学校名 | F12: 位置 | G12: UN. | H12: 氏名 | I12: 学年 | J12: 学校名
A13: 投手 | B13: ='参加申込書 (入力用)'!C26 -> 0 | C13: ='参加申込書 (入力用)'!H26 -> 0 | D13: ='参加申込書 (入力用)'!W26 -> 0 | E13: ='参加申込書 (入力用)'!Q26 -> 0 | F13: 選手 | G13: ='参加申込書 (入力用)'!C44 -> 0 | H13: ='参加申込書 (入力用)'!H44 -> 0 | I13: ='参加申込書 (入力用)'!W44 -> 0 | J13: ='参加申込書 (入力用)'!Q44 -> 0
C14: ='参加申込書 (入力用)'!H27 -> 0 | H14: ='参加申込書 (入力用)'!H45 -> 0
A15: 捕手 | B15: ='参加申込書 (入力用)'!C28 -> 0 | C15: ='参加申込書 (入力用)'!H28 -> 0 | D15: ='参加申込書 (入力用)'!W28 -> 0 | E15: ='参加申込書 (入力用)'!Q28 -> 0 | F15: 選手 | G15: ='参加申込書 (入力用)'!C46 -> 0 | H15: ='参加申込書 (入力用)'!H46 -> 0 | I15: ='参加申込書 (入力用)'!W46 -> 0 | J15: ='参加申込書 (入力用)'!Q46 -> 0
C16: ='参加申込書 (入力用)'!H29 -> 0 | H16: ='参加申込書 (入力用)'!H47 -> 0
A17: 一塁手 | B17: ='参加申込書 (入力用)'!C30 -> 0 | C17: ='参加申込書 (入力用)'!H30 -> 0 | D17: ='参加申込書 (入力用)'!W30 -> 0 | E17: ='参加申込書 (入力用)'!Q30 -> 0 | F17: 選手 | G17: ='参加申込書 (入力用)'!C48 -> 0 | H17: ='参加申込書 (入力用)'!H48 -> 0 | I17: ='参加申込書 (入力用)'!W48 -> 0 | J17: ='参加申込書 (入力用)'!Q48 -> 0
C18: ='参加申込書 (入力用)'!H31 -> 0 | H18: ='参加申込書 (入力用)'!H49 -> 0
A19: 二塁手 | B19: ='参加申込書 (入力用)'!C32 -> 0 | C19: ='参加申込書 (入力用)'!H32 -> 0 | D19: ='参加申込書 (入力用)'!W32 -> 0 | E19: ='参加申込書 (入力用)'!Q32 -> 0 | F19: 選手 | G19: ='参加申込書 (入力用)'!C50 -> 0 | H19: ='参加申込書 (入力用)'!H50 -> 0 | I19: ='参加申込書 (入力用)'!W50 -> 0 | J19: ='参加申込書 (入力用)'!Q50 -> 0
C20: ='参加申込書 (入力用)'!H33 -> 0 | H20: ='参加申込書 (入力用)'!H51 -> 0
A21: 三塁手 | B21: ='参加申込書 (入力用)'!C34 -> 0 | C21: ='参加申込書 (入力用)'!H34 -> 0 | D21: ='参加申込書 (入力用)'!W34 -> 0 | E21: ='参加申込書 (入力用)'!Q34 -> 0 | F21: 選手 | G21: ='参加申込書 (入力用)'!AA26 -> 0 | H21: ='参加申込書 (入力用)'!AF26 -> 0 | I21: ='参加申込書 (入力用)'!W52 -> 0 | J21: ='参加申込書 (入力用)'!AO26 -> 0
C22: ='参加申込書 (入力用)'!H35 -> 0 | H22: ='参加申込書 (入力用)'!AF27 -> 0
A23: 遊撃手 | B23: ='参加申込書 (入力用)'!C36 -> 0 | C23: ='参加申込書 (入力用)'!H36 -> 0 | D23: ='参加申込書 (入力用)'!W36 -> 0 | E23: ='参加申込書 (入力用)'!Q36 -> 0 | F23: 選手 | G23: ='参加申込書 (入力用)'!AA28 -> 0 | H23: ='参加申込書 (入力用)'!AF28 -> 0 | I23: ='参加申込書 (入力用)'!AU26 -> 0 | J23: ='参加申込書 (入力用)'!AO28 -> 0
C24: ='参加申込書 (入力用)'!H37 -> 0 | H24: ='参加申込書 (入力用)'!AF29 -> 0
A25: 左翼手 | B25: ='参加申込書 (入力用)'!C38 -> 0 | C25: ='参加申込書 (入力用)'!H38 -> 0 | D25: ='参加申込書 (入力用)'!W38 -> 0 | E25: ='参加申込書 (入力用)'!Q38 -> 0 | F25: 選手 | G25: ='参加申込書 (入力用)'!AA30 -> 0 | H25: ='参加申込書 (入力用)'!AF30 -> 0 | I25: ='参加申込書 (入力用)'!AU28 -> 0 | J25: ='参加申込書 (入力用)'!AO30 -> 0
C26: ='参加申込書 (入力用)'!H39 -> 0 | H26: ='参加申込書 (入力用)'!AF31 -> 0
A27: 中堅手 | B27: ='参加申込書 (入力用)'!C40 -> 0 | C27: ='参加申込書 (入力用)'!H40 -> 0 | D27: ='参加申込書 (入力用)'!W40 -> 0 | E27: ='参加申込書 (入力用)'!Q40 -> 0 | F27: 選手 | G27: ='参加申込書 (入力用)'!AA32 -> 0 | H27: ='参加申込書 (入力用)'!AF32 -> 0 | I27: ='参加申込書 (入力用)'!AU30 -> 0 | J27: ='参加申込書 (入力用)'!AO32 -> 0
C28: ='参加申込書 (入力用)'!H41 -> 0 | H28: ='参加申込書 (入力用)'!AF33 -> 0
A29: 右翼手 | B29: ='参加申込書 (入力用)'!C42 -> 0 | C29: ='参加申込書 (入力用)'!H42 -> 0 | D29: ='参加申込書 (入力用)'!W42 -> 0 | E29: ='参加申込書 (入力用)'!Q42 -> 0 | F29: 選手 | G29: ='参加申込書 (入力用)'!AA34 -> 0 | H29: ='参加申込書 (入力用)'!AF34 -> 0 | I29: ='参加申込書 (入力用)'!AU32 -> 0 | J29: ='参加申込書 (入力用)'!AO34 -> 0
C30: ='参加申込書 (入力用)'!H43 -> 0 | H30: ='参加申込書 (入力用)'!AF35 -> 0
